BEGIN:VCALENDAR
VERSION:2.0
PRODID:PHP
METHOD:REQUEST
X-ORIGINAL-URL:http://kickern-bremen.de/index.php/bremer-liga?task=veranstaltung_begegnungen_ical&id=44
X-WR-CALNAME;VALUE=TEXT:WarmCup
BEGIN:VEVENT
CLASS:PUBLIC
DTSTART:19700101T000000Z
DURATION:PT2H30M
STATUS:CONFIRMED
SUMMARY:Kickerfreunde 2 vs. Kickerfreunde E-Hörnchen 1a*
DESCRIPTION:WarmCup (Finale)\nErgebnis: 0:1 (39:40)
LOCATION:Landesleistungszentrum Kickerfreunde e.V, Hastedter Osterdeich 222, 28207 Bremen
UID:SM-B1961@kickern-bremen.de
PRIORITY:5
SEQUENCE:1
CATEGORIES:SPORT
DTSTAMP:20260419T121932
END:VEVENT
BEGIN:VEVENT
CLASS:PUBLIC
DTSTART:20220503T170000Z
DURATION:PT2H30M
STATUS:CONFIRMED
SUMMARY:Kickerfreunde E-Hörnchen 1a* vs. Klapperschlangen
DESCRIPTION:WarmCup (2. Spieltag)\nErgebnis: 1:0 (40:21)
LOCATION:Landesleistungszentrum Kickerfreunde e.V, Hastedter Osterdeich 222, 28207 Bremen
UID:SM-B1946@kickern-bremen.de
PRIORITY:5
SEQUENCE:1
CATEGORIES:SPORT
DTSTAMP:20260419T121932
END:VEVENT
BEGIN:VEVENT
CLASS:PUBLIC
DTSTART:20220504T180000Z
DURATION:PT2H30M
STATUS:CONFIRMED
SUMMARY:Klapperschlangen vs. Kickerfreunde 2
DESCRIPTION:WarmCup (1. Spieltag)\nErgebnis: 0:1 (28:40)
LOCATION:Landesleistungszentrum Kickerfreunde e.V, Hastedter Osterdeich 222, 28207 Bremen
UID:SM-B1944@kickern-bremen.de
PRIORITY:5
SEQUENCE:1
CATEGORIES:SPORT
DTSTAMP:20260419T121932
END:VEVENT
BEGIN:VEVENT
CLASS:PUBLIC
DTSTART:20220504T183000Z
DURATION:PT2H30M
STATUS:CONFIRMED
SUMMARY:Wesertiger vs. RSB
DESCRIPTION:WarmCup (2. Spieltag)
LOCATION:Gaststätte Fährhaus, Am Vegesacker Hafen 14, 28757 Bremen Vegesack
UID:SM-B1947@kickern-bremen.de
PRIORITY:5
SEQUENCE:0
CATEGORIES:SPORT
DTSTAMP:20260419T121932
END:VEVENT
BEGIN:VEVENT
CLASS:PUBLIC
DTSTART:20220505T180000Z
DURATION:PT2H30M
STATUS:CONFIRMED
SUMMARY:RSB vs. KFB feat. The Fläpps
DESCRIPTION:WarmCup (1. Spieltag)\nErgebnis: 0:1 (24:40)
LOCATION:Roter Stern Bremen e.V., Kornstr. 283, 28201 Bremen
UID:SM-B1945@kickern-bremen.de
PRIORITY:5
SEQUENCE:1
CATEGORIES:SPORT
DTSTAMP:20260419T121932
END:VEVENT
BEGIN:VEVENT
CLASS:PUBLIC
DTSTART:20220509T173000Z
DURATION:PT2H30M
STATUS:CONFIRMED
SUMMARY:KFB feat. The Fläpps vs. Wesertiger
DESCRIPTION:WarmCup (3. Spieltag)\nErgebnis: 1:0 (40:19)
LOCATION:Landesleistungszentrum Kickerfreunde e.V, Hastedter Osterdeich 222, 28207 Bremen
UID:SM-B1949@kickern-bremen.de
PRIORITY:5
SEQUENCE:1
CATEGORIES:SPORT
DTSTAMP:20260419T121932
END:VEVENT
BEGIN:VEVENT
CLASS:PUBLIC
DTSTART:20220510T180000Z
DURATION:PT2H30M
STATUS:CONFIRMED
SUMMARY:Kickerfreunde 2 vs. Kickerfreunde E-Hörnchen 1a*
DESCRIPTION:WarmCup (3. Spieltag)\nErgebnis: 0:1 (39:40)
LOCATION:Landesleistungszentrum Kickerfreunde e.V, Hastedter Osterdeich 222, 28207 Bremen
UID:SM-B1948@kickern-bremen.de
PRIORITY:5
SEQUENCE:1
CATEGORIES:SPORT
DTSTAMP:20260419T121932
END:VEVENT
BEGIN:VEVENT
CLASS:PUBLIC
DTSTART:20220517T180000Z
DURATION:PT2H30M
STATUS:CONFIRMED
SUMMARY:Kickerfreunde 2 vs. Klapperschlangen
DESCRIPTION:WarmCup (4. Spieltag)\nErgebnis: 1:0 (40:15)
LOCATION:Landesleistungszentrum Kickerfreunde e.V, Hastedter Osterdeich 222, 28207 Bremen
UID:SM-B1950@kickern-bremen.de
PRIORITY:5
SEQUENCE:1
CATEGORIES:SPORT
DTSTAMP:20260419T121932
END:VEVENT
BEGIN:VEVENT
CLASS:PUBLIC
DTSTART:20220518T173000Z
DURATION:PT2H30M
STATUS:CONFIRMED
SUMMARY:KFB feat. The Fläpps vs. RSB
DESCRIPTION:WarmCup (4. Spieltag)\nErgebnis: 1:0 (40:23)
LOCATION:Landesleistungszentrum Kickerfreunde e.V, Hastedter Osterdeich 222, 28207 Bremen
UID:SM-B1951@kickern-bremen.de
PRIORITY:5
SEQUENCE:1
CATEGORIES:SPORT
DTSTAMP:20260419T121932
END:VEVENT
BEGIN:VEVENT
CLASS:PUBLIC
DTSTART:20220525T180000Z
DURATION:PT2H30M
STATUS:CONFIRMED
SUMMARY:Klapperschlangen vs. Kickerfreunde E-Hörnchen 1a*
DESCRIPTION:WarmCup (5. Spieltag)\nErgebnis: 0:1 (33:40)
LOCATION:Landesleistungszentrum Kickerfreunde e.V, Hastedter Osterdeich 222, 28207 Bremen
UID:SM-B1952@kickern-bremen.de
PRIORITY:5
SEQUENCE:1
CATEGORIES:SPORT
DTSTAMP:20260419T121932
END:VEVENT
BEGIN:VEVENT
CLASS:PUBLIC
DTSTART:20220526T180000Z
DURATION:PT2H30M
STATUS:CONFIRMED
SUMMARY:RSB vs. Wesertiger
DESCRIPTION:WarmCup (5. Spieltag)
LOCATION:Roter Stern Bremen e.V., Kornstr. 283, 28201 Bremen
UID:SM-B1953@kickern-bremen.de
PRIORITY:5
SEQUENCE:0
CATEGORIES:SPORT
DTSTAMP:20260419T121932
END:VEVENT
BEGIN:VEVENT
CLASS:PUBLIC
DTSTART:20220531T170000Z
DURATION:PT2H30M
STATUS:CONFIRMED
SUMMARY:Kickerfreunde E-Hörnchen 1a* vs. Kickerfreunde 2
DESCRIPTION:WarmCup (6. Spieltag)
LOCATION:Landesleistungszentrum Kickerfreunde e.V, Hastedter Osterdeich 222, 28207 Bremen
UID:SM-B1954@kickern-bremen.de
PRIORITY:5
SEQUENCE:0
CATEGORIES:SPORT
DTSTAMP:20260419T121932
END:VEVENT
BEGIN:VEVENT
CLASS:PUBLIC
DTSTART:20220608T183000Z
DURATION:PT2H30M
STATUS:CONFIRMED
SUMMARY:Wesertiger vs. KFB feat. The Fläpps
DESCRIPTION:WarmCup (6. Spieltag)\nErgebnis: 0:1 (22:40)
LOCATION:Gaststätte Fährhaus, Am Vegesacker Hafen 14, 28757 Bremen Vegesack
UID:SM-B1955@kickern-bremen.de
PRIORITY:5
SEQUENCE:1
CATEGORIES:SPORT
DTSTAMP:20260419T121932
END:VEVENT
BEGIN:VEVENT
CLASS:PUBLIC
DTSTART:20220614T180000Z
DURATION:PT2H30M
STATUS:CONFIRMED
SUMMARY:Kickerfreunde 2 vs. RSB
DESCRIPTION:WarmCup (Viertelfinale)\nErgebnis: 1:0 (40:21)
LOCATION:Landesleistungszentrum Kickerfreunde e.V, Hastedter Osterdeich 222, 28207 Bremen
UID:SM-B1957@kickern-bremen.de
PRIORITY:5
SEQUENCE:1
CATEGORIES:SPORT
DTSTAMP:20260419T121932
END:VEVENT
BEGIN:VEVENT
CLASS:PUBLIC
DTSTART:20220615T180000Z
DURATION:PT2H30M
STATUS:CONFIRMED
SUMMARY:Klapperschlangen vs. Wesertiger
DESCRIPTION:WarmCup (Viertelfinale)\nErgebnis: 1:0 (40:39)
LOCATION:Landesleistungszentrum Kickerfreunde e.V, Hastedter Osterdeich 222, 28207 Bremen
UID:SM-B1956@kickern-bremen.de
PRIORITY:5
SEQUENCE:1
CATEGORIES:SPORT
DTSTAMP:20260419T121932
END:VEVENT
BEGIN:VEVENT
CLASS:PUBLIC
DTSTART:20220628T170000Z
DURATION:PT2H30M
STATUS:CONFIRMED
SUMMARY:Kickerfreunde E-Hörnchen 1a* vs. Klapperschlangen
DESCRIPTION:WarmCup (Halbfinale)\nErgebnis: 1:0 (40:26)
LOCATION:Landesleistungszentrum Kickerfreunde e.V, Hastedter Osterdeich 222, 28207 Bremen
UID:SM-B1959@kickern-bremen.de
PRIORITY:5
SEQUENCE:1
CATEGORIES:SPORT
DTSTAMP:20260419T121932
END:VEVENT
BEGIN:VEVENT
CLASS:PUBLIC
DTSTART:20220629T173000Z
DURATION:PT2H30M
STATUS:CONFIRMED
SUMMARY:KFB feat. The Fläpps vs. Kickerfreunde 2
DESCRIPTION:WarmCup (Halbfinale)\nErgebnis: 0:1 (33:40)
LOCATION:Landesleistungszentrum Kickerfreunde e.V, Hastedter Osterdeich 222, 28207 Bremen
UID:SM-B1958@kickern-bremen.de
PRIORITY:5
SEQUENCE:1
CATEGORIES:SPORT
DTSTAMP:20260419T121932
END:VEVENT
BEGIN:VEVENT
CLASS:PUBLIC
DTSTART:20220718T173000Z
DURATION:PT2H30M
STATUS:CONFIRMED
SUMMARY:KFB feat. The Fläpps vs. Klapperschlangen
DESCRIPTION:WarmCup (Platz 3)\nErgebnis: 1:0 (40:20)
LOCATION:Landesleistungszentrum Kickerfreunde e.V, Hastedter Osterdeich 222, 28207 Bremen
UID:SM-B1960@kickern-bremen.de
PRIORITY:5
SEQUENCE:1
CATEGORIES:SPORT
DTSTAMP:20260419T121932
END:VEVENT
END:VCALENDAR
